BEGIN:VCALENDAR
VERSION:2.0
PRODID:-//American Honey Producers Association - ECPv6.15.19//NONSGML v1.0//EN
CALSCALE:GREGORIAN
METHOD:PUBLISH
X-WR-CALNAME:American Honey Producers Association
X-ORIGINAL-URL:https://ahpanet.com
X-WR-CALDESC:Events for American Honey Producers Association
REFRESH-INTERVAL;VALUE=DURATION:PT1H
X-Robots-Tag:noindex
X-PUBLISHED-TTL:PT1H
BEGIN:VTIMEZONE
TZID:UTC
BEGIN:STANDARD
TZOFFSETFROM:+0000
TZOFFSETTO:+0000
TZNAME:UTC
DTSTART:20220101T000000
END:STANDARD
END:VTIMEZONE
BEGIN:VEVENT
DTSTART;TZID=UTC:20241203T080000
DTEND;TZID=UTC:20241206T170000
DTSTAMP:20260425T152126
CREATED:20240624T160024Z
LAST-MODIFIED:20240627T091336Z
UID:3793-1733212800-1733504400@ahpanet.com
SUMMARY:AHPA 56th Annual Conference & Trade Show
DESCRIPTION:The American Honey Producers Association is organizing their 56th annual Conference and Trade Show in San Antonio Texas in December 2024. Join our 3rd annual AHPA golf tournament\, listen in on Keynote Speakers featuring Dr. Jay Evans\, Social Media sensation Bob Binnie\, Dr. Brandon Hopkins from Washington State University to name only a few. The trade show room will be packed with your favorite vendors and good deals. We look forward to seeing you in San Antonio in December! \n\n\n\n\n\n\n\n\n\n\n\n\n\n\n\n\n\n\n\n\n\n\n\n\n\n\n\n\n\n\n\n\n\n\n\nElementor #3833
URL:https://ahpanet.com/event/ahpa-2024-annual-conference-trade-show/
LOCATION:Westin San Antonio North\, 9821 Colonnade Blvd\, San Antonio\, Texas\, 78230
END:VEVENT
BEGIN:VEVENT
DTSTART;TZID=UTC:20231204T000000
DTEND;TZID=UTC:20231207T235959
DTSTAMP:20260425T152126
CREATED:20230725T154037Z
LAST-MODIFIED:20231002T215644Z
UID:1499-1701648000-1701993599@ahpanet.com
SUMMARY:APHA 2023 Conference and Trade Show
DESCRIPTION:AHPA has one of the finest beekeeping conference and trade shows in the country. Exciting speakers with up-to-date information and research at the conference and the latest technology and supplies at the trade show. We also have an offsite activity\, banquet and auction\, and much more! \n\n\n\n\n\n\n\n\nBook your group rate for American Honey Producers Association Attendee Room Block
URL:https://ahpanet.com/event/apha-2023-convention-and-trade-show/
LOCATION:Mariott Mission Valley Hotel\, San Diego\, CA\, United States
ORGANIZER;CN="AHPA":MAILTO:cassie@ahpanet.com
END:VEVENT
END:VCALENDAR